BEGIN:VCALENDAR
VERSION:2.0
PRODID:-//Tukios.com/
BEGIN:VEVENT
UID:f2280462-8c82-465d-aeaf-a3dd816e1c2b@www.madisonvillefuneralhome.com
DTSTAMP:20260423T224558Z
DTSTART:20260424T160000Z
DTEND:20260424T170000Z
SUMMARY:Graveside Service
DESCRIPTION:
URL:https://www.madisonvillefuneralhome.com/obituaries/nanette-collum
LOCATION:  Highway 3  Normangee TX 77871
GEO:31.030099;-96.1121387
END:VEVENT
END:VCALENDAR