BEGIN:VCALENDAR
VERSION:2.0
PRODID:-//Tukios.com/
BEGIN:VEVENT
UID:fb1f84d6-2a61-4f54-aa9c-592ed850e865@www.madisonvillefuneralhome.com
DTSTAMP:20260420T231128Z
DTSTART:20260422
SUMMARY:Burial
DESCRIPTION:
URL:https://www.madisonvillefuneralhome.com/obituaries/henry-churchwell-jr
LOCATION: Hwy 21  Midway TX 75852
GEO:31.0248384;-95.7517346
END:VEVENT
END:VCALENDAR