BEGIN:VCALENDAR
VERSION:2.0
PRODID:-//Tukios.com/
BEGIN:VEVENT
UID:3e555085-cece-4208-b2cb-61652011837f@www.madisonvillefuneralhome.com
DTSTAMP:20260420T231128Z
DTSTART:20260422T160000Z
DTEND:20260422T170000Z
SUMMARY:Funeral Service
DESCRIPTION:
URL:https://www.madisonvillefuneralhome.com/obituaries/henry-churchwell-jr
LOCATION: 14453 Texas 21  Midway TX 75852
GEO:31.0277828;-95.7487637
END:VEVENT
END:VCALENDAR