BEGIN:VCALENDAR
VERSION:2.0
PRODID:-//Tukios.com/
BEGIN:VEVENT
UID:04bc29eb-7fc9-4e41-a42d-d39c2f5a0f32@www.madisonvillefuneralhome.com
DTSTAMP:20260420T231334Z
DTSTART:20260422T150000Z
DTEND:20260422T160000Z
SUMMARY:Visitation
DESCRIPTION:
URL:https://www.madisonvillefuneralhome.com/obituaries/henry-churchwell-jr
LOCATION: 14453 Texas 21  Midway TX 75852
GEO:31.0277828;-95.7487637
END:VEVENT
END:VCALENDAR